BEGIN:VCALENDAR
PRODID:-//eluceo/ical//2.0/EN
VERSION:2.0
CALSCALE:GREGORIAN
BEGIN:VEVENT
UID:962397b4e4fff9b7f7a88b080178ecf3
DTSTAMP:20260420T185250Z
SUMMARY:Bnai Abraham Special Shabbat Service
DESCRIPTION:Shalom Lehigh Valley\nCommunity Calendar\nhttps://shalomlehighv
 alley.org/calendar/bnai-abraham-special-shabbat-service-3439\n\n9:30 AM BA
 BR Special Shabbat Service
DTSTART;TZID=America/New_York:20130119T093000
DTEND;TZID=America/New_York:20130119T100000
END:VEVENT
END:VCALENDAR
