BEGIN:VCALENDAR
PRODID:-//eluceo/ical//2.0/EN
VERSION:2.0
CALSCALE:GREGORIAN
BEGIN:VEVENT
UID:feb7021261ae02939241a478382a7ec9
DTSTAMP:20260420T184721Z
SUMMARY:CBS 14th Annual Brith Sholom Golf Outing and Barbecue
DESCRIPTION:Shalom Lehigh Valley\nCommunity Calendar\nhttps://shalomlehighv
 alley.org/calendar/cbs-14th-annual-brith-sholom-golf-outing-and-barbecue-3
 11860\n\n14th Annual Brith Sholom Golf Outing and Barbecue\nWednesday\, Au
 gust 28\, 2019\nIn Memory of Jerry Hausman\nTwo hole in one contests:\nfor
  a new 2019 Lexus UX 250h and a chance for $1 million!\nLocust Valley Golf
  Club: 1pm Shotgun Start - Scramble format\, 6 pm dinner\nplus additional 
 contests\n$150 per person included cart\, greens fees and dinner ($500 per
  foursome)\n$50 per person (non-golfers) for steak and chicken dinner\nEve
 nt Co-Chairs: Steven Bergstein (sbergstein@ewblaw.net) 610-398-060...
DTSTART;TZID=America/New_York:20190828T130000
DTEND;TZID=America/New_York:20190828T193000
END:VEVENT
END:VCALENDAR
