BEGIN:VCALENDAR
PRODID:-//eluceo/ical//2.0/EN
VERSION:2.0
CALSCALE:GREGORIAN
BEGIN:VEVENT
UID:6161823417c3a5fbba8dbb2ba34d37c3
DTSTAMP:20260421T212909Z
SUMMARY:CBS 50th Anniversary Celebrating Sam Guncler
DESCRIPTION:Shalom Lehigh Valley\nCommunity Calendar\nhttps://shalomlehighv
 alley.org/calendar/cbs-50th-anniversary-celebrating-sam-guncler-317955\n\n
 A community wide celebration\, cocktails\, hors d'oeuvres and desserts by 
 Boscovs to recognize Sam Guncler for 50 years of leading Congregation Brit
 h Sholom in song and prayer.  For more information and to RSVP\, visit ww
 w.brithsholom.net/CelebratingSam.\n\n 
DTSTART;TZID=America/New_York:20200307T190000
DTEND;TZID=America/New_York:20200307T220000
END:VEVENT
END:VCALENDAR
