BEGIN:VCALENDAR
PRODID:-//eluceo/ical//2.0/EN
VERSION:2.0
CALSCALE:GREGORIAN
BEGIN:VEVENT
UID:72ddc2c5e9461882f8088a4f5e111bb5
DTSTAMP:20260421T132141Z
SUMMARY:CBS HealthyU@55+ series
DESCRIPTION:Shalom Lehigh Valley\nCommunity Calendar\nhttps://shalomlehighv
 alley.org/calendar/cbs-healthyu55-series-49507\n\n10:00 AM CBS Atrial Fibr
 illation
DTSTART;TZID=America/New_York:20140309T100000
DTEND;TZID=America/New_York:20140309T120000
END:VEVENT
END:VCALENDAR
