BEGIN:VCALENDAR
PRODID:-//eluceo/ical//2.0/EN
VERSION:2.0
CALSCALE:GREGORIAN
BEGIN:VEVENT
UID:3d1c3321e6acf3fb8c87bbc14b03704b
DTSTAMP:20260419T213758Z
SUMMARY:CBS Tex/Mex Shabbat Dinner
DESCRIPTION:Shalom Lehigh Valley\nCommunity Calendar\nhttps://shalomlehighv
 alley.org/calendar/cbs-texmex-shabbat-dinner-286506\n\nTex/Mex Shabbat Din
 ner Â \n\nJoin us at Congregation Brith Sholom for a Shabbat Dinner and Fr
 iday Night Services on October 19\, 2018 at 6:00 PM.Â  Welcome the Shabbat
  and spend the evening with our warm\, welcoming community. Make your rese
 rvations by noon\, October 12\, 2018. (reservations are required)Â \n\nÂ \
 n\nThe price is $15 per adult or become a patron for $20\; $5 per child be
 tween the ages of 5 - 13\; no charge for children under 5 with maximum fam
 ily charge of $45.Â  Please pay in advance.Â...
DTSTART;TZID=America/New_York:20181019T180000
DTEND;TZID=America/New_York:20181019T210000
END:VEVENT
END:VCALENDAR
