BEGIN:VCALENDAR
PRODID:-//eluceo/ical//2.0/EN
VERSION:2.0
CALSCALE:GREGORIAN
BEGIN:VEVENT
UID:b84dd44f431555e750dea403debc33f2
DTSTAMP:20260421T074818Z
SUMMARY:CBS Thirteenth Annual Brith Sholom Golf Outing
DESCRIPTION:Shalom Lehigh Valley\nCommunity Calendar\nhttps://shalomlehighv
 alley.org/calendar/cbs-thirteenth-annual-brith-sholom-golf-outing-dinner-2
 72065\n\nTHIRTEENTH ANNUAL BRITH SHOLOM GOLF OUTING\nWednesday\, August 15
 \, 2018 \nLocation—Locust Valley Golf Course\n5525 Locust Valley Road
 —Coopersburg\, PA - 610-282-4711\n\nDelicious Kosher Steak or Chicken Di
 nner catered by Boscov’s\n\nFormat: 1:00 PM Shotgun Start — Dinner at 
 6 PM\nScramble\n$120 per person includes cart\, Greens fee and dinner\nFor
  Non-Golfers - $45 per person – Dinner only\nFoursome (Golf/Dinner) @ $4
 50\n\nSponsors:\nDinner Sponsor $1\,000—(including Foursome)\nDrink...
DTSTART;TZID=America/New_York:20180815T130000
DTEND;TZID=America/New_York:20180815T200000
END:VEVENT
END:VCALENDAR
