BEGIN:VCALENDAR
PRODID:-//eluceo/ical//2.0/EN
VERSION:2.0
CALSCALE:GREGORIAN
BEGIN:VEVENT
UID:50139654e57d081db0772ab813411c5f
DTSTAMP:20260420T085158Z
SUMMARY:6:00 pm CBS Torah for Foodies
DESCRIPTION:Shalom Lehigh Valley\nCommunity Calendar\nhttps://shalomlehighv
 alley.org/calendar/cbs-torah-for-foodies-jan-feb-2016-174000\n\nRegister b
 y Jan. 15. Materials fee: $30. Contact Tammy Watts: tammy@brithsholom.net 
 or 610-866-8009.
DTSTART;TZID=America/New_York:20160126T180000
DTEND;TZID=America/New_York:20160126T194500
END:VEVENT
END:VCALENDAR
