BEGIN:VCALENDAR
PRODID:-//eluceo/ical//2.0/EN
VERSION:2.0
CALSCALE:GREGORIAN
BEGIN:VEVENT
UID:6049f32c3e32d3a2413f2562a5685fad
DTSTAMP:20260419T155451Z
SUMMARY:1:30 pm CBS What Happens When We Die?
DESCRIPTION:Shalom Lehigh Valley\nCommunity Calendar\nhttps://shalomlehighv
 alley.org/calendar/cbs-what-happens-when-we-die-176230\n\nContact Tammy Wa
 tts: tammy@brithsholom.net or 610-866-8009.
DTSTART;TZID=America/New_York:20160203T133000
DTEND;TZID=America/New_York:20160203T150000
END:VEVENT
END:VCALENDAR
