BEGIN:VCALENDAR
PRODID:-//eluceo/ical//2.0/EN
VERSION:2.0
CALSCALE:GREGORIAN
BEGIN:VEVENT
UID:efefb9168db432149e929deda22504bf
DTSTAMP:20260419T174038Z
SUMMARY:Chabad of  the Lehigh Valley Allentown Menorah Lighting
DESCRIPTION:Shalom Lehigh Valley\nCommunity Calendar\nhttps://shalomlehighv
 alley.org/calendar/chabad-of--the-lehigh-valley-allentown-menorah-lighting
 -3720\n\n5:00 PM Chabad LV Giant Menorah Lighting Allentown
DTSTART;TZID=America/New_York:20131202T170000
DTEND;TZID=America/New_York:20131202T173000
END:VEVENT
END:VCALENDAR
