BEGIN:VCALENDAR
PRODID:-//eluceo/ical//2.0/EN
VERSION:2.0
CALSCALE:GREGORIAN
BEGIN:VEVENT
UID:c7d3239e8d2e4fe4a1ecd042449f84cd
DTSTAMP:20260421T090805Z
SUMMARY:Christmas Day
DESCRIPTION:Shalom Lehigh Valley\nCommunity Calendar\nhttps://shalomlehighv
 alley.org/calendar/christmas-day-399088\n\nChristmas Day
DTSTART;TZID=America/New_York:20221225T000000
DTEND;TZID=America/New_York:20221225T235959
END:VEVENT
END:VCALENDAR
