BEGIN:VCALENDAR
PRODID:-//eluceo/ical//2.0/EN
VERSION:2.0
CALSCALE:GREGORIAN
BEGIN:VEVENT
UID:1fe6a74de562a249517f3183fc32a635
DTSTAMP:20260424T210112Z
SUMMARY:Virtual Community Forum with Sen. Pat Toomey
DESCRIPTION:Shalom Lehigh Valley\nCommunity Calendar\nhttps://shalomlehighv
 alley.org/calendar/community-forum-with-sen-pat-toomey-381122\n\nJoin us f
 or an enlightening conversation featuring Sen. Pat Toomey\, who will spea
 k about his goals for his final year in office\, the Iran nuclear deal\, t
 he future of Congress's support for Israel defense systems and anti-Semiti
 sm and other forms of hate in U.S. society. Co-sponsored by the Jewish Fed
 eration of the Lehigh Valley and the Jewish Federation of Greater Philadel
 phia. Register here.
DTSTART;TZID=America/New_York:20210602T140000
DTEND;TZID=America/New_York:20210602T150000
END:VEVENT
END:VCALENDAR
