BEGIN:VCALENDAR
PRODID:-//eluceo/ical//2.0/EN
VERSION:2.0
CALSCALE:GREGORIAN
BEGIN:VEVENT
UID:7057966d823c9a4220ba8abfbabb31cc
DTSTAMP:20260420T120050Z
SUMMARY:Community Yom HaShoah Observance
DESCRIPTION:Shalom Lehigh Valley\nCommunity Calendar\nhttps://shalomlehighv
 alley.org/calendar/community-yom-hashoah-observance-3567\n\nChoosing to Ac
 t - Stories of Rescue\, featuring Frieda Garcia\, daughter of Col. Jose Ar
 turo Castellanos.
DTSTART;TZID=America/New_York:20140427T190000
DTEND;TZID=America/New_York:20140427T201500
END:VEVENT
END:VCALENDAR
