BEGIN:VCALENDAR
PRODID:-//eluceo/ical//2.0/EN
VERSION:2.0
CALSCALE:GREGORIAN
BEGIN:VEVENT
UID:fdab93d0ce19c787fc2a48df1e53ca21
DTSTAMP:20260420T215914Z
SUMMARY:CRC Meeting
DESCRIPTION:Shalom Lehigh Valley\nCommunity Calendar\nhttps://shalomlehighv
 alley.org/calendar/crc-meeting-12119-285851\n\nCRC Meeting in JCC Board Ro
 om
DTSTART;TZID=America/New_York:20190121T190000
DTEND;TZID=America/New_York:20190121T203000
END:VEVENT
END:VCALENDAR
