BEGIN:VCALENDAR
PRODID:-//eluceo/ical//2.0/EN
VERSION:2.0
CALSCALE:GREGORIAN
BEGIN:VEVENT
UID:1d1584d4ca8a39a44b01444195839c5b
DTSTAMP:20260420T020140Z
SUMMARY:CRC Meeting
DESCRIPTION:Shalom Lehigh Valley\nCommunity Calendar\nhttps://shalomlehighv
 alley.org/calendar/crc-meeting-121718-285850\n\nCRC Meeting in the JCC Boa
 rd Room
DTSTART;TZID=America/New_York:20181217T190000
DTEND;TZID=America/New_York:20181217T203000
END:VEVENT
END:VCALENDAR
