BEGIN:VCALENDAR
PRODID:-//eluceo/ical//2.0/EN
VERSION:2.0
CALSCALE:GREGORIAN
BEGIN:VEVENT
UID:e42c7e4483b7444cbca112e4c4f33939
DTSTAMP:20260419T143334Z
SUMMARY:CRC Meeting
DESCRIPTION:Shalom Lehigh Valley\nCommunity Calendar\nhttps://shalomlehighv
 alley.org/calendar/crc-meeting-21819-285853\n\nCRC Meeting in JCC Board Ro
 om
DTSTART;TZID=America/New_York:20190218T190000
DTEND;TZID=America/New_York:20190218T203000
END:VEVENT
END:VCALENDAR
