BEGIN:VCALENDAR
PRODID:-//eluceo/ical//2.0/EN
VERSION:2.0
CALSCALE:GREGORIAN
BEGIN:VEVENT
UID:44b7d8db1029593a5bfeb71b7c1ef310
DTSTAMP:20260419T154835Z
SUMMARY:CRC Meeting
DESCRIPTION:Shalom Lehigh Valley\nCommunity Calendar\nhttps://shalomlehighv
 alley.org/calendar/crc-meeting-285813\n\nCRC Meeting in JCC Board Room
DTSTART;TZID=America/New_York:20181008T190000
DTEND;TZID=America/New_York:20181008T203000
END:VEVENT
END:VCALENDAR
