BEGIN:VCALENDAR
PRODID:-//eluceo/ical//2.0/EN
VERSION:2.0
CALSCALE:GREGORIAN
BEGIN:VEVENT
UID:d358a76a4fb7f3d2593b5759fffa4b3e
DTSTAMP:20260419T142328Z
SUMMARY:CRC Mission to Harrisburg
DESCRIPTION:Shalom Lehigh Valley\nCommunity Calendar\nhttps://shalomlehighv
 alley.org/calendar/crc-mission-to-harrisburg-133839\n\nJoin the Jewish Fed
 eration's Community Relations Council for its first-ever mission to Harri
 sburg.\n\nMeet with representatives from the governor's office and with Le
 high Valley legislators on both sides of the aisle. Talk about the issues 
 that are important to us\, like Holocaust education\, non-profit taxation
  and the memorandum of understanding between Pennsylvania and Israel.\n\n
 Contact Aaron Gorodzinsky at 610-821-5500 or aaron@jflv.org for more info
 rmation.
DTSTART;TZID=America/New_York:20150505T080000
DTEND;TZID=America/New_York:20150505T180000
END:VEVENT
END:VCALENDAR
