BEGIN:VCALENDAR
PRODID:-//eluceo/ical//2.0/EN
VERSION:2.0
CALSCALE:GREGORIAN
BEGIN:VEVENT
UID:0b485dae9fe523a203eb01111fb67e01
DTSTAMP:20260420T010450Z
SUMMARY:7:30 pm Dessert Reception & Presentation "Inside David Ben-Gurion's
  Head"
DESCRIPTION:Shalom Lehigh Valley\nCommunity Calendar\nhttps://shalomlehighv
 alley.org/calendar/dessert-reception-and-presentation-inside-david-ben-gur
 ions-head-1431360116-145139\n\nAll are welcome to attend a presentation ab
 out David Ben-Gurion\, given by Dr. Paula Kabalo.
DTSTART;TZID=America/New_York:20150528T193000
DTEND;TZID=America/New_York:20150528T213000
END:VEVENT
END:VCALENDAR
