BEGIN:VCALENDAR
PRODID:-//eluceo/ical//2.0/EN
VERSION:2.0
CALSCALE:GREGORIAN
BEGIN:VEVENT
UID:e90be07b610832af33fca26fb0efa4d3
DTSTAMP:20260419T130714Z
SUMMARY:**EREV HANUKKAH**
DESCRIPTION:Shalom Lehigh Valley\nCommunity Calendar\nhttps://shalomlehighv
 alley.org/calendar/erev-hanukkah-dec-2020-245608\n\nHanukkah 2020 begins e
 vening of Thur.\, Dec. 10\, ends evening of Fri.\, Dec. 18
DTSTART;TZID=America/New_York:20201210T000000
DTEND;TZID=America/New_York:20201210T000000
END:VEVENT
END:VCALENDAR
