BEGIN:VCALENDAR
PRODID:-//eluceo/ical//2.0/EN
VERSION:2.0
CALSCALE:GREGORIAN
BEGIN:VEVENT
UID:13ebe2ab6f35b29944d3e9fe459f6c67
DTSTAMP:20260420T103752Z
SUMMARY:** EREV ROSH HASHANA **
DESCRIPTION:Shalom Lehigh Valley\nCommunity Calendar\nhttps://shalomlehighv
 alley.org/calendar/erev-rosh-hashana-2018-245853\n\nHoliday begins at at s
 undown on Sunday\, September 9.
DTSTART;TZID=America/New_York:20180909T000000
DTEND;TZID=America/New_York:20180909T000000
END:VEVENT
END:VCALENDAR
