BEGIN:VCALENDAR
PRODID:-//eluceo/ical//2.0/EN
VERSION:2.0
CALSCALE:GREGORIAN
BEGIN:VEVENT
UID:c4549106be176e007f30289b6d1a9887
DTSTAMP:20260419T233208Z
SUMMARY:** EREV ROSH HASHANA **
DESCRIPTION:Shalom Lehigh Valley\nCommunity Calendar\nhttps://shalomlehighv
 alley.org/calendar/erev-rosh-hashana-2019-245858\n\nHoliday begins at sund
 own on Sunday\, Sept. 29
DTSTART;TZID=America/New_York:20190929T000000
DTEND;TZID=America/New_York:20190929T000000
END:VEVENT
END:VCALENDAR
