BEGIN:VCALENDAR
PRODID:-//eluceo/ical//2.0/EN
VERSION:2.0
CALSCALE:GREGORIAN
BEGIN:VEVENT
UID:f16c84b76fd43353ce026f71712e7b7d
DTSTAMP:20260419T143244Z
SUMMARY:** EREV SHAVUOT **
DESCRIPTION:Shalom Lehigh Valley\nCommunity Calendar\nhttps://shalomlehighv
 alley.org/calendar/erev-shavuot-2019-245908\n\nHoliday begins at sundown o
 n Saturday\, June 8.
DTSTART;TZID=America/New_York:20190608T000000
DTEND;TZID=America/New_York:20190608T000000
END:VEVENT
END:VCALENDAR
