BEGIN:VCALENDAR
PRODID:-//eluceo/ical//2.0/EN
VERSION:2.0
CALSCALE:GREGORIAN
BEGIN:VEVENT
UID:f2c87807382a7e0145e2d38462216022
DTSTAMP:20260422T012204Z
SUMMARY:**EREV SHAVUOT**
DESCRIPTION:Shalom Lehigh Valley\nCommunity Calendar\nhttps://shalomlehighv
 alley.org/calendar/erev-shavuot-236366\n\nFederation offices close at 4:00
  pm.
DTSTART;TZID=America/New_York:20200528T000000
DTEND;TZID=America/New_York:20200528T000000
END:VEVENT
END:VCALENDAR
