BEGIN:VCALENDAR
PRODID:-//eluceo/ical//2.0/EN
VERSION:2.0
CALSCALE:GREGORIAN
BEGIN:VEVENT
UID:d619efa44e87e8b2c26155fc66b08f9e
DTSTAMP:20260419T230051Z
SUMMARY:** EREV SUKKOT **
DESCRIPTION:Shalom Lehigh Valley\nCommunity Calendar\nhttps://shalomlehighv
 alley.org/calendar/erev-sukkot-2019-245826\n\nSukkot 2019 begins evening o
 f Sunday\, Oct 13.
DTSTART;TZID=America/New_York:20191013T000000
DTEND;TZID=America/New_York:20191013T000000
END:VEVENT
END:VCALENDAR
