BEGIN:VCALENDAR
PRODID:-//eluceo/ical//2.0/EN
VERSION:2.0
CALSCALE:GREGORIAN
BEGIN:VEVENT
UID:3656bfd698b2465245bbd31c0e65fcc3
DTSTAMP:20260419T142116Z
SUMMARY:**EREV SUKKOT**
DESCRIPTION:Shalom Lehigh Valley\nCommunity Calendar\nhttps://shalomlehighv
 alley.org/calendar/erev-sukkot-2020-236392\n\nFederation offices close at 
 4:00 pm.
DTSTART;TZID=America/New_York:20201002T000000
DTEND;TZID=America/New_York:20201002T000000
END:VEVENT
END:VCALENDAR
