BEGIN:VCALENDAR
PRODID:-//eluceo/ical//2.0/EN
VERSION:2.0
CALSCALE:GREGORIAN
BEGIN:VEVENT
UID:983c829d80d29956a027d68af057c008
DTSTAMP:20260419T172613Z
SUMMARY:Exclusive Lehigh Valley Premiere of 'Denial'
DESCRIPTION:Shalom Lehigh Valley\nCommunity Calendar\nhttps://shalomlehighv
 alley.org/calendar/exclusive-screening-of-denial-208837\n\nThe JCC Jewish 
 & Israeli Film Festival and the Holocaust Resource Center of the Jewish Fe
 deration of the Lehigh Valley present the exclusive Lehigh Valley premiere
  of "Denial\," based on Deborah Lipstadt's book “History on Trial: My Da
 y in Court with a Holocaust Denier.” 
DTSTART;TZID=America/New_York:20161020T191500
DTEND;TZID=America/New_York:20161020T213000
END:VEVENT
END:VCALENDAR
