BEGIN:VCALENDAR
PRODID:-//eluceo/ical//2.0/EN
VERSION:2.0
CALSCALE:GREGORIAN
BEGIN:VEVENT
UID:4e315624f89a5f7d432a86c3f8e8a456
DTSTAMP:20260420T120120Z
SUMMARY:Federation Offices Closed
DESCRIPTION:Shalom Lehigh Valley\nCommunity Calendar\nhttps://shalomlehighv
 alley.org/calendar/federation-offices-closed-1-1-16-132400\n\nFederation o
 ffices closed in observance of New Year's Day
DTSTART;TZID=America/New_York:20160101T000000
DTEND;TZID=America/New_York:20160101T235959
END:VEVENT
END:VCALENDAR
