BEGIN:VCALENDAR
PRODID:-//eluceo/ical//2.0/EN
VERSION:2.0
CALSCALE:GREGORIAN
BEGIN:VEVENT
UID:ad6661a85a665ca25e7d453c3ef5d886
DTSTAMP:20260419T160929Z
SUMMARY:Federation Offices Closed
DESCRIPTION:Shalom Lehigh Valley\nCommunity Calendar\nhttps://shalomlehighv
 alley.org/calendar/federation-offices-closed-1-1-2021-178006\n\nFederation
  offices closed in observance of New Year's Day
DTSTART;TZID=America/New_York:20210101T000000
DTEND;TZID=America/New_York:20210101T000000
END:VEVENT
END:VCALENDAR
