BEGIN:VCALENDAR
PRODID:-//eluceo/ical//2.0/EN
VERSION:2.0
CALSCALE:GREGORIAN
BEGIN:VEVENT
UID:a4ffa620d57434ded4dca1e9f465e7b3
DTSTAMP:20260419T201141Z
SUMMARY:Federation Offices Closed
DESCRIPTION:Shalom Lehigh Valley\nCommunity Calendar\nhttps://shalomlehighv
 alley.org/calendar/federation-offices-closed-10-12-16-152897\n\nFederation
  offices closed in observance of Yom Kippur
DTSTART;TZID=America/New_York:20161012T000000
DTEND;TZID=America/New_York:20161012T235959
END:VEVENT
END:VCALENDAR
