BEGIN:VCALENDAR
PRODID:-//eluceo/ical//2.0/EN
VERSION:2.0
CALSCALE:GREGORIAN
BEGIN:VEVENT
UID:d298a952270f3a75d84a41134044fa5e
DTSTAMP:20260420T120110Z
SUMMARY:Federation Offices Closed
DESCRIPTION:Shalom Lehigh Valley\nCommunity Calendar\nhttps://shalomlehighv
 alley.org/calendar/federation-offices-closed-10-24-16-152901\n\nFederation
  offices closed in observance of Shmini Atzeret
DTSTART;TZID=America/New_York:20161024T000000
DTEND;TZID=America/New_York:20161024T235959
END:VEVENT
END:VCALENDAR
