BEGIN:VCALENDAR
PRODID:-//eluceo/ical//2.0/EN
VERSION:2.0
CALSCALE:GREGORIAN
BEGIN:VEVENT
UID:9be052edbedb006a7dda633fac109105
DTSTAMP:20260420T214457Z
SUMMARY:Federation Offices Closed
DESCRIPTION:Shalom Lehigh Valley\nCommunity Calendar\nhttps://shalomlehighv
 alley.org/calendar/federation-offices-closed-12-25-15-132398\n\nFederation
  offices closed
DTSTART;TZID=America/New_York:20151225T000000
DTEND;TZID=America/New_York:20151225T235959
END:VEVENT
END:VCALENDAR
