BEGIN:VCALENDAR
PRODID:-//eluceo/ical//2.0/EN
VERSION:2.0
CALSCALE:GREGORIAN
BEGIN:VEVENT
UID:25babb41596d7905d4cfbe653978923b
DTSTAMP:20260420T184826Z
SUMMARY:Federation Offices Closed
DESCRIPTION:Shalom Lehigh Valley\nCommunity Calendar\nhttps://shalomlehighv
 alley.org/calendar/federation-offices-closed-4-16-2020-245765\n\nFederatio
 n offices closed in observance of Passover.
DTSTART;TZID=America/New_York:20200416T000000
DTEND;TZID=America/New_York:20200416T000000
END:VEVENT
END:VCALENDAR
