BEGIN:VCALENDAR
PRODID:-//eluceo/ical//2.0/EN
VERSION:2.0
CALSCALE:GREGORIAN
BEGIN:VEVENT
UID:2cf609e3abd927327839fe3f2d7df346
DTSTAMP:20260420T024310Z
SUMMARY:Federation Offices Closed
DESCRIPTION:Shalom Lehigh Valley\nCommunity Calendar\nhttps://shalomlehighv
 alley.org/calendar/federation-offices-closed-5-31-2021-236478\n\nFederatio
 n offices closed in observance of  Memorial Day
DTSTART;TZID=America/New_York:20210531T000000
DTEND;TZID=America/New_York:20210531T000000
END:VEVENT
END:VCALENDAR
