BEGIN:VCALENDAR
PRODID:-//eluceo/ical//2.0/EN
VERSION:2.0
CALSCALE:GREGORIAN
BEGIN:VEVENT
UID:e67d243014450cdb35a539c432b9e684
DTSTAMP:20260419T230224Z
SUMMARY:Federation Offices Closed
DESCRIPTION:Shalom Lehigh Valley\nCommunity Calendar\nhttps://shalomlehighv
 alley.org/calendar/federation-offices-closed-6-10-19-236312\n\nFederation 
 offices closed in observance of Shavuot.
DTSTART;TZID=America/New_York:20190610T000000
DTEND;TZID=America/New_York:20190610T000000
END:VEVENT
END:VCALENDAR
