BEGIN:VCALENDAR
PRODID:-//eluceo/ical//2.0/EN
VERSION:2.0
CALSCALE:GREGORIAN
BEGIN:VEVENT
UID:dda9d10961b6f002d7062798a0057dbc
DTSTAMP:20260420T002835Z
SUMMARY:Federation Offices Closed
DESCRIPTION:Shalom Lehigh Valley\nCommunity Calendar\nhttps://shalomlehighv
 alley.org/calendar/federation-offices-closed-7-4-18-170025\n\nFederation o
 ffices closed in observance of the 4th of July holiday
DTSTART;TZID=America/New_York:20180704T000000
DTEND;TZID=America/New_York:20180704T000000
END:VEVENT
END:VCALENDAR
