BEGIN:VCALENDAR
PRODID:-//eluceo/ical//2.0/EN
VERSION:2.0
CALSCALE:GREGORIAN
BEGIN:VEVENT
UID:f1c576b41a317f2c04138465699d2ca1
DTSTAMP:20260419T112705Z
SUMMARY:Federation Offices Closed
DESCRIPTION:Shalom Lehigh Valley\nCommunity Calendar\nhttps://shalomlehighv
 alley.org/calendar/federation-offices-closed-9-19-18-196376\n\nFederation 
 offices closed in observance of Yom Kippur.
DTSTART;TZID=America/New_York:20180919T000000
DTEND;TZID=America/New_York:20180919T000000
END:VEVENT
END:VCALENDAR
