BEGIN:VCALENDAR
PRODID:-//eluceo/ical//2.0/EN
VERSION:2.0
CALSCALE:GREGORIAN
BEGIN:VEVENT
UID:a2e7d66f01b8e72ba45c5598f3fafbff
DTSTAMP:20260419T155742Z
SUMMARY:Federation Offices Closed
DESCRIPTION:Shalom Lehigh Valley\nCommunity Calendar\nhttps://shalomlehighv
 alley.org/calendar/federation-offices-closed-passover-4-15-2020-236377\n\n
 Federation offices closed in observance of Passover.
DTSTART;TZID=America/New_York:20200415T000000
DTEND;TZID=America/New_York:20200415T000000
END:VEVENT
END:VCALENDAR
