BEGIN:VCALENDAR
PRODID:-//eluceo/ical//2.0/EN
VERSION:2.0
CALSCALE:GREGORIAN
BEGIN:VEVENT
UID:dfb298b98bf2f59d1b9428889b59fa5a
DTSTAMP:20260420T064616Z
SUMMARY:6:30 pm JCC Gallery at the J Opening Reception and Exhibit
DESCRIPTION:Shalom Lehigh Valley\nCommunity Calendar\nhttps://shalomlehighv
 alley.org/calendar/gallery-at-the-j-opening-reception-and-exhibit-14716573
 19-204381\n\nContact Monica Friess at mfriess@lvjcc.org
DTSTART;TZID=America/New_York:20161110T183000
DTEND;TZID=America/New_York:20161110T200000
END:VEVENT
END:VCALENDAR
