BEGIN:VCALENDAR
PRODID:-//eluceo/ical//2.0/EN
VERSION:2.0
CALSCALE:GREGORIAN
BEGIN:VEVENT
UID:7dd2d8b2adf85471ee0a928f23b6964e
DTSTAMP:20260420T110726Z
SUMMARY:Hanukkah
DESCRIPTION:Shalom Lehigh Valley\nCommunity Calendar\nhttps://shalomlehighv
 alley.org/calendar/hanukkah-67322\n\nHanukkah
DTSTART;TZID=America/New_York:20141217T000000
DTEND;TZID=America/New_York:20141224T235500
END:VEVENT
END:VCALENDAR
