BEGIN:VCALENDAR
PRODID:-//eluceo/ical//2.0/EN
VERSION:2.0
CALSCALE:GREGORIAN
BEGIN:VEVENT
UID:6c39d89cebe54027cfa58d0b15e9a00a
DTSTAMP:20260419T224357Z
SUMMARY:** HANUKKAH **
DESCRIPTION:Shalom Lehigh Valley\nCommunity Calendar\nhttps://shalomlehighv
 alley.org/calendar/hanukkah-Dec-2016-135216\n\nHanukkah
DTSTART;TZID=America/New_York:20161224T005500
DTEND;TZID=America/New_York:20161231T235500
END:VEVENT
END:VCALENDAR
