BEGIN:VCALENDAR
PRODID:-//eluceo/ical//2.0/EN
VERSION:2.0
CALSCALE:GREGORIAN
BEGIN:VEVENT
UID:71275e029c51ea75c5a7b21e6204ade7
DTSTAMP:20260419T215959Z
SUMMARY:HRC Legacy Exhibit Reception
DESCRIPTION:Shalom Lehigh Valley\nCommunity Calendar\nhttps://shalomlehighv
 alley.org/calendar/hrc-legacy-exhibit-reception-3651\n\n12:00PM HRC Legacy
  Exhibit Reception
DTSTART;TZID=America/New_York:20130908T120000
DTEND;TZID=America/New_York:20130908T160000
END:VEVENT
END:VCALENDAR
