BEGIN:VCALENDAR
PRODID:-//eluceo/ical//2.0/EN
VERSION:2.0
CALSCALE:GREGORIAN
BEGIN:VEVENT
UID:63393524ccc6110e6351cd5de5302be3
DTSTAMP:20260421T091649Z
SUMMARY:IAJ Youth Program at Temple Beth El
DESCRIPTION:Shalom Lehigh Valley\nCommunity Calendar\nhttps://shalomlehighv
 alley.org/calendar/iaj-youth-program-at-temple-beth-el-421616\n\nIAJ Youth
  Program at Temple Beth El\n\nCost: $180 per Youth\n\nTwo Mondays per
  Month\n\nJanuary: 9 & 23\, February:  6 (tentative) & 27\, Mar
 ch: 13 & 27\, April: 3 & 24\, May: 8
DTSTART;TZID=America/New_York:20230109T180000
DTEND;TZID=America/New_York:20230109T200000
END:VEVENT
END:VCALENDAR
