BEGIN:VCALENDAR
PRODID:-//eluceo/ical//2.0/EN
VERSION:2.0
CALSCALE:GREGORIAN
BEGIN:VEVENT
UID:275e5008683f16d4e7c565632f928266
DTSTAMP:20260422T123022Z
SUMMARY:IJCU Wallenberg Tribute Reception & Dinner
DESCRIPTION:Shalom Lehigh Valley\nCommunity Calendar\nhttps://shalomlehighv
 alley.org/calendar/ijcu-wallenberg-tribute-reception-dinner-10-8-17-237762
 \n\nThere is a cost associated with this event. Reservations are required.
  Contact Victoria Hanzl: victoriahanzl@muhlenberg.edu
DTSTART;TZID=America/New_York:20171008T163000
DTEND;TZID=America/New_York:20171008T200000
END:VEVENT
END:VCALENDAR
