BEGIN:VCALENDAR
PRODID:-//eluceo/ical//2.0/EN
VERSION:2.0
CALSCALE:GREGORIAN
BEGIN:VEVENT
UID:a24ed911616e331475101e386dd0419c
DTSTAMP:20260419T143416Z
SUMMARY:In Darkness Film
DESCRIPTION:Shalom Lehigh Valley\nCommunity Calendar\nhttps://shalomlehighv
 alley.org/calendar/in-darkness-film-3697\n\n7:00pm JCC In Darkenss JCC Fil
 m Festival
DTSTART;TZID=America/New_York:20131026T190000
DTEND;TZID=America/New_York:20131026T213000
END:VEVENT
END:VCALENDAR
