BEGIN:VCALENDAR
PRODID:-//eluceo/ical//2.0/EN
VERSION:2.0
CALSCALE:GREGORIAN
BEGIN:VEVENT
UID:02b3985ce2097b6f3127da232b39464b
DTSTAMP:20260420T123637Z
SUMMARY:Is an Apple a Day Enough? Creating a Work-Life Balance
DESCRIPTION:Shalom Lehigh Valley\nCommunity Calendar\nhttps://shalomlehighv
 alley.org/calendar/is-an-apple-a-day-enough-creating-a-work-life-balance-2
 09961\n\nDoctors are often so busy giving advice to others that they somet
 imes don't listen to their own advice\, which can lead to increased stress
  and career burnout\, says Dr. Melissa Hakim\, a healthcare advocate and w
 ellness workshop leader. \n\nOn Jan. 8\, Dr. Hakim will discuss the signs
  and symptoms of being unwell\, as well as tips on how doctors can take ca
 re of themselves\, eat well\, exercise\, prevent burnout and find satisfac
 tion in their work.\n\nFree for Maimonides members and spouses\, $10 fo...
DTSTART;TZID=America/New_York:20170108T101500
DTEND;TZID=America/New_York:20170108T114500
END:VEVENT
END:VCALENDAR
