BEGIN:VCALENDAR
PRODID:-//eluceo/ical//2.0/EN
VERSION:2.0
CALSCALE:GREGORIAN
BEGIN:VEVENT
UID:64062e248da7f33bed548e9571d07a42
DTSTAMP:20260419T173831Z
SUMMARY:A Taste of Israel
DESCRIPTION:Shalom Lehigh Valley\nCommunity Calendar\nhttps://shalomlehighv
 alley.org/calendar/israel-70-a-taste-of-israel-245490\n\nSpace for dinner 
 has officially sold out! If you are still interested in seeing the movie\,
  you may contact us to purchase a movie-only ticket or purchase one at the
  door -- $7 for JCC members\, $10 for non-members.\n\nEnjoy an Israel-insp
 ired tasting menu and then screen the documentary "In Search of Israeli Cu
 isine." Presented by the JCC's Jewish & Israeli Film Series and the Jewish
  Federation of the Lehigh Valley.\n\n"In Search of Israeli Cuisine" is a p
 ortrait of the Israeli people told thr...
DTSTART;TZID=America/New_York:20180418T190000
DTEND;TZID=America/New_York:20180418T220000
END:VEVENT
END:VCALENDAR
