BEGIN:VCALENDAR
PRODID:-//eluceo/ical//2.0/EN
VERSION:2.0
CALSCALE:GREGORIAN
BEGIN:VEVENT
UID:a1ef36e5f672ce38ec4f04be76d6235d
DTSTAMP:20260420T033324Z
SUMMARY:Israel Solidarity Gathering & Briefing
DESCRIPTION:Shalom Lehigh Valley\nCommunity Calendar\nhttps://shalomlehighv
 alley.org/calendar/israel-solidarity-gathering-briefing-75972\n\nAn opport
 unity for the community to come together\, show support for Israel during 
 this difficult time and learn more about the current situation.\n\nDr. Jon
 athan Schanzer\, an expert on Middle East affairs\, will provide us with a
 n in-depth analysis of the fluid situation in Israel. Dr. Schanzer brings 
 solid scholarship and public policy credentials to his job of overseeing r
 esearch at the Foundation for Defense of Democracies. He worked as a terro
 rism finance analyst at the U.S. Department of ...
DTSTART;TZID=America/New_York:20140722T191500
DTEND;TZID=America/New_York:20140722T204500
END:VEVENT
END:VCALENDAR
