BEGIN:VCALENDAR
PRODID:-//eluceo/ical//2.0/EN
VERSION:2.0
CALSCALE:GREGORIAN
BEGIN:VEVENT
UID:4c31c964568f8e5595912b8ebff98e25
DTSTAMP:20260420T185310Z
SUMMARY:7:30 pm JCC Camp Committee Meeting
DESCRIPTION:Shalom Lehigh Valley\nCommunity Calendar\nhttps://shalomlehighv
 alley.org/calendar/jcc-camp-committee-meeting-May2015-68543\n\nContact Kar
 la Lyle: klyle@lvjcc.org or 610-435-3571 x119
DTSTART;TZID=America/New_York:20150513T193000
DTEND;TZID=America/New_York:20150513T210000
END:VEVENT
END:VCALENDAR
