BEGIN:VCALENDAR
PRODID:-//eluceo/ical//2.0/EN
VERSION:2.0
CALSCALE:GREGORIAN
BEGIN:VEVENT
UID:db8cf1a555a1c8de07b0c64fd44017b5
DTSTAMP:20260419T185417Z
SUMMARY:7:30 pm JCC Children's Committee Meeting
DESCRIPTION:Shalom Lehigh Valley\nCommunity Calendar\nhttps://shalomlehighv
 alley.org/calendar/jcc-childrens-committee-meeting-March2015-66912\n\nCont
 act Karla Lyle: klyle@lvjcc.org or 610-435-3571 x119
DTSTART;TZID=America/New_York:20150316T193000
DTEND;TZID=America/New_York:20150316T210000
END:VEVENT
END:VCALENDAR
