BEGIN:VCALENDAR
PRODID:-//eluceo/ical//2.0/EN
VERSION:2.0
CALSCALE:GREGORIAN
BEGIN:VEVENT
UID:6c7265019373eafee99478b1b6f678ad
DTSTAMP:20260420T074945Z
SUMMARY:12:00 pm JCC Community Purim Program
DESCRIPTION:Shalom Lehigh Valley\nCommunity Calendar\nhttps://shalomlehighv
 alley.org/calendar/jcc-community-purim-program-1579128794-339786\n\nJCC Co
 mmunity Program. Details to follow.
DTSTART;TZID=America/New_York:20210221T120000
DTEND;TZID=America/New_York:20210221T150000
END:VEVENT
END:VCALENDAR
